BEGIN:VCALENDAR
VERSION:2.0
PRODID:-//demosphere.net//NONSGML kigkonsult.se iCalcreator 2.22.1//
METHOD:REQUEST
X-WR-TIMEZONE:Europe/Athens
BEGIN:VEVENT
UID:https://crete.kinimatorama.net/event/96044
DTSTAMP:20180424T153000Z
DESCRIPTION:περισσότερες πληροφορίες: https://crete.kinimatorama.net/event/
 96044 
DTSTART:20180424T153000Z
DTEND:20180424T163000Z
GEO:+37.975682;+23.733816
LOCATION:Αθήνα\, \nαρχή της Ερμού \nΣύνταγμα
SUMMARY:Αντιπολεμική-αντιιμπεριαλιστική συγκέντρωση-πορεία
URL:https://crete.kinimatorama.net/event/96044
END:VEVENT
END:VCALENDAR
