BEGIN:VCALENDAR
VERSION:2.0
PRODID:-//demosphere.net//NONSGML kigkonsult.se iCalcreator 2.22.1//
METHOD:REQUEST
X-WR-TIMEZONE:Europe/Athens
BEGIN:VEVENT
UID:https://crete.kinimatorama.net/event/9064
DTSTAMP:20110316T183000Z
DESCRIPTION:περισσότερες πληροφορίες: https://crete.kinimatorama.net/event/
 9064 
DTSTART:20110316T183000Z
DTEND:20110316T193000Z
GEO:+39.362249;+22.945858
LOCATION:Βόλος\, \nΚατάληψη Ματσάγγου \nΠαύλου Μελά με Σωκράτους
SUMMARY:Φεστιβάλ ταινιών μικρού μήκους
URL:https://crete.kinimatorama.net/event/9064
END:VEVENT
END:VCALENDAR
