BEGIN:VCALENDAR
VERSION:2.0
PRODID:-//demosphere.net//NONSGML kigkonsult.se iCalcreator 2.22.1//
METHOD:REQUEST
X-WR-TIMEZONE:Europe/Athens
BEGIN:VEVENT
UID:https://crete.kinimatorama.net/event/9014
DTSTAMP:20110318T180000Z
DESCRIPTION:περισσότερες πληροφορίες: https://crete.kinimatorama.net/event/
 9014 
DTSTART:20110318T180000Z
DTEND:20110318T190000Z
GEO:+39.362249;+22.945858
LOCATION:Βόλος\, \nΚατάληψη Ματσάγγου \nΠαύλου Μελά με Σωκράτους
SUMMARY:Εκδήλωση - παρουσίαση της μπροσούρας 'Γυναίκες στην Πυρά'
URL:https://crete.kinimatorama.net/event/9014
END:VEVENT
END:VCALENDAR
