BEGIN:VCALENDAR
VERSION:2.0
PRODID:-//demosphere.net//NONSGML kigkonsult.se iCalcreator 2.22.1//
METHOD:REQUEST
X-WR-TIMEZONE:Europe/Athens
BEGIN:VEVENT
UID:https://crete.kinimatorama.net/event/89677
DTSTAMP:20171112T180000Z
DESCRIPTION:περισσότερες πληροφορίες: https://crete.kinimatorama.net/event/
 89677 
DTSTART:20171112T180000Z
DTEND:20171112T190000Z
GEO:+35.515361;+24.021515
LOCATION:Χανιά\, \nΚοινωνικό Στέκι - Στέκι Μεταναστών Χανίων \nΧατζήΜιχάλη 
 Νταλιάνη 5
SUMMARY:Ανοικτή εκδήλωση – συζήτηση: Η βία στη πόλη και το φασιστικό φαινόμ
 ενο
URL:https://crete.kinimatorama.net/event/89677
END:VEVENT
END:VCALENDAR
