BEGIN:VCALENDAR
VERSION:2.0
PRODID:-//demosphere.net//NONSGML kigkonsult.se iCalcreator 2.22.1//
METHOD:REQUEST
X-WR-TIMEZONE:Europe/Athens
BEGIN:VEVENT
UID:https://crete.kinimatorama.net/event/83
DTSTAMP:20090926T173000Z
DESCRIPTION:περισσότερες πληροφορίες: https://crete.kinimatorama.net/event/
 83 
DTSTART:20090926T173000Z
DTEND:20090926T183000Z
GEO:+39.362249;+22.945858
LOCATION:Βόλος\, \nΚατάληψη Ματσάγγου \nΠαύλου Μελά με Σωκράτους
SUMMARY:θεατρικό δρώμενο και συναυλία
URL:https://crete.kinimatorama.net/event/83
END:VEVENT
END:VCALENDAR
