BEGIN:VCALENDAR
VERSION:2.0
PRODID:-//demosphere.net//NONSGML kigkonsult.se iCalcreator 2.22.1//
METHOD:REQUEST
X-WR-TIMEZONE:Europe/Athens
BEGIN:VEVENT
UID:https://crete.kinimatorama.net/event/80942
DTSTAMP:20170325T210000Z
DESCRIPTION:περισσότερες πληροφορίες: https://crete.kinimatorama.net/event/
 80942 
DTSTART:20170325T210000Z
DTEND:20170325T220000Z
GEO:+39.362249;+22.945858
LOCATION:Βόλος\, \nΚατάληψη Ματσάγγου \nΠαύλου Μελά με Σωκράτους
SUMMARY:Πάρτυ Οικονομικής Ενίσχυσης για την κάλυψη Ιατρικών Εξόδων
URL:https://crete.kinimatorama.net/event/80942
END:VEVENT
END:VCALENDAR
