BEGIN:VCALENDAR
VERSION:2.0
PRODID:-//demosphere.net//NONSGML kigkonsult.se iCalcreator 2.22.1//
METHOD:REQUEST
X-WR-TIMEZONE:Europe/Athens
BEGIN:VEVENT
UID:https://crete.kinimatorama.net/event/74334
DTSTAMP:20161106T083000Z
DESCRIPTION:περισσότερες πληροφορίες: https://crete.kinimatorama.net/event/
 74334 
DTSTART:20161106T083000Z
DTEND:20161106T093000Z
GEO:+37.975682;+23.733816
LOCATION:Αθήνα\, \nαρχή της Ερμού \nΣύνταγμα
SUMMARY:Απεργία στον κλάδο του εμπορίου
URL:https://crete.kinimatorama.net/event/74334
END:VEVENT
END:VCALENDAR
