BEGIN:VCALENDAR
VERSION:2.0
PRODID:-//demosphere.net//NONSGML kigkonsult.se iCalcreator 2.22.1//
METHOD:REQUEST
X-WR-TIMEZONE:Europe/Athens
BEGIN:VEVENT
UID:https://crete.kinimatorama.net/event/73265
DTSTAMP:20161010T180000Z
DESCRIPTION:περισσότερες πληροφορίες: https://crete.kinimatorama.net/event/
 73265 
DTSTART:20161010T180000Z
DTEND:20161010T190000Z
GEO:+35.515361;+24.021515
LOCATION:Χανιά\, \nΚοινωνικό Στέκι - Στέκι Μεταναστών Χανίων \nΧατζήΜιχάλη 
 Νταλιάνη 5
SUMMARY:Κάλεσμα σε φορεις και συλλογικότητες της πόλης για το προσφυγικό
URL:https://crete.kinimatorama.net/event/73265
END:VEVENT
END:VCALENDAR
