BEGIN:VCALENDAR
VERSION:2.0
PRODID:-//demosphere.net//NONSGML kigkonsult.se iCalcreator 2.22.1//
METHOD:REQUEST
X-WR-TIMEZONE:Europe/Athens
BEGIN:VEVENT
UID:https://crete.kinimatorama.net/event/73100
DTSTAMP:20161008T090000Z
DESCRIPTION:περισσότερες πληροφορίες: https://crete.kinimatorama.net/event/
 73100 
DTSTART:20161008T090000Z
DTEND:20161008T100000Z
GEO:+37.975682;+23.733816
LOCATION:Αθήνα\, \nαρχή της Ερμού \nΣύνταγμα
SUMMARY:Διαδήλωση ενάντια στην ληστρική συμφωνία CETA
URL:https://crete.kinimatorama.net/event/73100
END:VEVENT
END:VCALENDAR
