BEGIN:VCALENDAR
VERSION:2.0
PRODID:-//demosphere.net//NONSGML kigkonsult.se iCalcreator 2.22.1//
METHOD:REQUEST
X-WR-TIMEZONE:Europe/Athens
BEGIN:VEVENT
UID:https://crete.kinimatorama.net/event/69671
DTSTAMP:20160622T090000Z
DESCRIPTION:περισσότερες πληροφορίες: https://crete.kinimatorama.net/event/
 69671 
DTSTART:20160622T090000Z
DTEND:20160622T100000Z
GEO:+37.975682;+23.733816
LOCATION:Αθήνα\, \nαρχή της Ερμού \nΣύνταγμα
SUMMARY:Μικροφωνική για την TTIP
URL:https://crete.kinimatorama.net/event/69671
END:VEVENT
END:VCALENDAR
