BEGIN:VCALENDAR
VERSION:2.0
PRODID:-//demosphere.net//NONSGML kigkonsult.se iCalcreator 2.22.1//
METHOD:REQUEST
X-WR-TIMEZONE:Europe/Athens
BEGIN:VEVENT
UID:https://crete.kinimatorama.net/event/65873
DTSTAMP:20160422T153000Z
DESCRIPTION:περισσότερες πληροφορίες: https://crete.kinimatorama.net/event/
 65873 
DTSTART:20160422T153000Z
DTEND:20160422T163000Z
GEO:+38.002554;+23.733687
LOCATION:Αθήνα\, \nΠλατεία Αμερικής \nΠατησίων & Μηθύμνης
SUMMARY:Antifa διαδήλωση
URL:https://crete.kinimatorama.net/event/65873
END:VEVENT
END:VCALENDAR
