BEGIN:VCALENDAR
VERSION:2.0
PRODID:-//demosphere.net//NONSGML kigkonsult.se iCalcreator 2.22.1//
METHOD:REQUEST
X-WR-TIMEZONE:Europe/Athens
BEGIN:VEVENT
UID:https://crete.kinimatorama.net/event/64253
DTSTAMP:20160309T170000Z
DESCRIPTION:περισσότερες πληροφορίες: https://crete.kinimatorama.net/event/
 64253 
DTSTART:20160309T170000Z
DTEND:20160309T180000Z
GEO:+35.515361;+24.021515
LOCATION:Χανιά\, \nΚοινωνικό Στέκι - Στέκι Μεταναστών Χανίων \nΧατζήΜιχάλη 
 Νταλιάνη 5
SUMMARY:Πολιτικό καφενείο
URL:https://crete.kinimatorama.net/event/64253
END:VEVENT
END:VCALENDAR
