BEGIN:VCALENDAR
VERSION:2.0
PRODID:-//demosphere.net//NONSGML kigkonsult.se iCalcreator 2.22.1//
METHOD:REQUEST
X-WR-TIMEZONE:Europe/Athens
BEGIN:VEVENT
UID:https://crete.kinimatorama.net/event/5957
DTSTAMP:20101202T190000Z
DESCRIPTION:περισσότερες πληροφορίες: https://crete.kinimatorama.net/event/
 5957 
DTSTART:20101202T190000Z
DTEND:20101202T200000Z
GEO:+35.515361;+24.021515
LOCATION:Χανιά\, \nΚοινωνικό Στέκι - Στέκι Μεταναστών Χανίων \nΧατζήΜιχάλη 
 Νταλιάνη 5
SUMMARY:Προβολή: Η αξιοπρέπεια των χωρίς όνομα
URL:https://crete.kinimatorama.net/event/5957
END:VEVENT
END:VCALENDAR
