BEGIN:VCALENDAR
VERSION:2.0
PRODID:-//demosphere.net//NONSGML kigkonsult.se iCalcreator 2.22.1//
METHOD:REQUEST
X-WR-TIMEZONE:Europe/Athens
BEGIN:VEVENT
UID:https://crete.kinimatorama.net/event/55674
DTSTAMP:20151010T083000Z
DESCRIPTION:περισσότερες πληροφορίες: https://crete.kinimatorama.net/event/
 55674 
DTSTART:20151010T083000Z
DTEND:20151010T093000Z
GEO:+37.975682;+23.733816
LOCATION:Αθήνα\, \nαρχή της Ερμού \nΣύνταγμα
SUMMARY:Συγκέντρωση ενάντια στην εμπορική συμφωνία TTIP
URL:https://crete.kinimatorama.net/event/55674
END:VEVENT
END:VCALENDAR
