BEGIN:VCALENDAR
VERSION:2.0
PRODID:-//demosphere.net//NONSGML kigkonsult.se iCalcreator 2.22.1//
METHOD:REQUEST
X-WR-TIMEZONE:Europe/Athens
BEGIN:VEVENT
UID:https://crete.kinimatorama.net/event/52272
DTSTAMP:20150516T180000Z
DESCRIPTION:περισσότερες πληροφορίες: https://crete.kinimatorama.net/event/
 52272 
DTSTART:20150516T180000Z
DTEND:20150516T190000Z
GEO:+35.515361;+24.021515
LOCATION:Χανιά\, \nΚοινωνικό Στέκι - Στέκι Μεταναστών Χανίων \nΧατζήΜιχάλη 
 Νταλιάνη 5
SUMMARY:Party οικονομικής ενίσχυσης για το LGBTQ & PRIDE Κρήτης
URL:https://crete.kinimatorama.net/event/52272
END:VEVENT
END:VCALENDAR
