BEGIN:VCALENDAR
VERSION:2.0
PRODID:-//demosphere.net//NONSGML kigkonsult.se iCalcreator 2.22.1//
METHOD:REQUEST
X-WR-TIMEZONE:Europe/Athens
BEGIN:VEVENT
UID:https://crete.kinimatorama.net/event/49489
DTSTAMP:20150312T160000Z
DESCRIPTION:περισσότερες πληροφορίες: https://crete.kinimatorama.net/event/
 49489 
DTSTART:20150312T160000Z
DTEND:20150312T170000Z
GEO:+38.002554;+23.733687
LOCATION:Αθήνα\, \nΠλατεία Αμερικής \nΠατησίων & Μηθύμνης
SUMMARY:Παρέμβαση-μικροφωνική για τη διεκδίκηση επιδόματος ανεργίας
URL:https://crete.kinimatorama.net/event/49489
END:VEVENT
END:VCALENDAR
