BEGIN:VCALENDAR
VERSION:2.0
PRODID:-//demosphere.net//NONSGML kigkonsult.se iCalcreator 2.22.1//
METHOD:REQUEST
X-WR-TIMEZONE:Europe/Athens
BEGIN:VEVENT
UID:https://crete.kinimatorama.net/event/48441
DTSTAMP:20150217T160000Z
DESCRIPTION:περισσότερες πληροφορίες: https://crete.kinimatorama.net/event/
 48441 
DTSTART:20150217T160000Z
DTEND:20150217T170000Z
GEO:+37.975682;+23.733816
LOCATION:Αθήνα\, \nαρχή της Ερμού \nΣύνταγμα
SUMMARY:Συγκέντρωση – παρέμβαση αλληλεγγύης στους συλληφθέντες της απεργίας
URL:https://crete.kinimatorama.net/event/48441
END:VEVENT
END:VCALENDAR
