BEGIN:VCALENDAR
VERSION:2.0
PRODID:-//demosphere.net//NONSGML kigkonsult.se iCalcreator 2.22.1//
METHOD:REQUEST
X-WR-TIMEZONE:Europe/Athens
BEGIN:VEVENT
UID:https://crete.kinimatorama.net/event/48415
DTSTAMP:20150221T170000Z
DESCRIPTION:περισσότερες πληροφορίες: https://crete.kinimatorama.net/event/
 48415 
DTSTART:20150221T170000Z
DTEND:20150221T180000Z
GEO:+39.362249;+22.945858
LOCATION:Βόλος\, \nΚατάληψη Ματσάγγου \nΠαύλου Μελά με Σωκράτους
SUMMARY:12 Χρόνια κατάληψη Ματσάγγου: Συλλογική κουζίνα - καφέ bar
URL:https://crete.kinimatorama.net/event/48415
END:VEVENT
END:VCALENDAR
