BEGIN:VCALENDAR
VERSION:2.0
PRODID:-//demosphere.net//NONSGML kigkonsult.se iCalcreator 2.22.1//
METHOD:REQUEST
X-WR-TIMEZONE:Europe/Athens
BEGIN:VEVENT
UID:https://crete.kinimatorama.net/event/45741
DTSTAMP:20141214T090000Z
DESCRIPTION:περισσότερες πληροφορίες: https://crete.kinimatorama.net/event/
 45741 
DTSTART:20141214T090000Z
DTEND:20141214T100000Z
GEO:+37.975682;+23.733816
LOCATION:Αθήνα\, \nαρχή της Ερμού \nΣύνταγμα
SUMMARY:Απεργιακή συγκέντρωση ενάντια στην κατάργηση της Κυριακάτικης αργία
 ς
URL:https://crete.kinimatorama.net/event/45741
END:VEVENT
END:VCALENDAR
