BEGIN:VCALENDAR
VERSION:2.0
PRODID:-//demosphere.net//NONSGML kigkonsult.se iCalcreator 2.22.1//
METHOD:REQUEST
X-WR-TIMEZONE:Europe/Athens
BEGIN:VEVENT
UID:https://crete.kinimatorama.net/event/4500
DTSTAMP:20100708T160000Z
DESCRIPTION:περισσότερες πληροφορίες: https://crete.kinimatorama.net/event/
 4500 
DTSTART:20100708T160000Z
DTEND:20100708T170000Z
GEO:+38.002554;+23.733687
LOCATION:Αθήνα\, \nΠλατεία Αμερικής \nΠατησίων & Μηθύμνης
SUMMARY:Συγκέντρωση αντιπληροφόρησης και αλληλεγγύης στους μετανάστες
URL:https://crete.kinimatorama.net/event/4500
END:VEVENT
END:VCALENDAR
