BEGIN:VCALENDAR
VERSION:2.0
PRODID:-//demosphere.net//NONSGML kigkonsult.se iCalcreator 2.22.1//
METHOD:REQUEST
X-WR-TIMEZONE:Europe/Athens
BEGIN:VEVENT
UID:https://crete.kinimatorama.net/event/30786
DTSTAMP:20130820T170000Z
DESCRIPTION:περισσότερες πληροφορίες: https://crete.kinimatorama.net/event/
 30786 
DTSTART:20130820T170000Z
DTEND:20130820T180000Z
GEO:+39.362249;+22.945858
LOCATION:Βόλος\, \nΚατάληψη Ματσάγγου \nΠαύλου Μελά με Σωκράτους
SUMMARY:Ανοιχτή συνέλευση αναρχικών - αντιεξουσιαστών
URL:https://crete.kinimatorama.net/event/30786
END:VEVENT
END:VCALENDAR
