BEGIN:VCALENDAR
VERSION:2.0
PRODID:-//demosphere.net//NONSGML kigkonsult.se iCalcreator 2.22.1//
METHOD:REQUEST
X-WR-TIMEZONE:Europe/Athens
BEGIN:VEVENT
UID:https://crete.kinimatorama.net/event/2445
DTSTAMP:20100312T173000Z
DESCRIPTION:περισσότερες πληροφορίες: https://crete.kinimatorama.net/event/
 2445 
DTSTART:20100312T173000Z
DTEND:20100312T183000Z
GEO:+35.515361;+24.021515
LOCATION:Χανιά\, \nΚοινωνικό Στέκι - Στέκι Μεταναστών Χανίων \nΧατζήΜιχάλη 
 Νταλιάνη 5
SUMMARY:Ομαδική έκθεση φωτογραφίας
URL:https://crete.kinimatorama.net/event/2445
END:VEVENT
END:VCALENDAR
