BEGIN:VCALENDAR
VERSION:2.0
PRODID:-//demosphere.net//NONSGML kigkonsult.se iCalcreator 2.22.1//
METHOD:REQUEST
X-WR-TIMEZONE:Europe/Athens
BEGIN:VEVENT
UID:https://crete.kinimatorama.net/event/23409
DTSTAMP:20121109T170000Z
DESCRIPTION:περισσότερες πληροφορίες: https://crete.kinimatorama.net/event/
 23409 
DTSTART:20121109T170000Z
DTEND:20121109T180000Z
GEO:+38.002554;+23.733687
LOCATION:Αθήνα\, \nΠλατεία Αμερικής \nΠατησίων & Μηθύμνης
SUMMARY:Αντιρατσιστική - αντιφασιστική συγκέντρωση
URL:https://crete.kinimatorama.net/event/23409
END:VEVENT
END:VCALENDAR
