BEGIN:VCALENDAR
VERSION:2.0
PRODID:-//demosphere.net//NONSGML kigkonsult.se iCalcreator 2.22.1//
METHOD:REQUEST
X-WR-TIMEZONE:Europe/Athens
BEGIN:VEVENT
UID:https://crete.kinimatorama.net/event/2152
DTSTAMP:20100227T170000Z
DESCRIPTION:περισσότερες πληροφορίες: https://crete.kinimatorama.net/event/
 2152 
DTSTART:20100227T170000Z
DTEND:20100227T180000Z
GEO:+39.362249;+22.945858
LOCATION:Βόλος\, \nΚατάληψη Ματσάγγου \nΠαύλου Μελά με Σωκράτους
SUMMARY:3ήμερο εκδηλώσεων ενάντια στο εμπόρευμα και το θέαμα
URL:https://crete.kinimatorama.net/event/2152
END:VEVENT
END:VCALENDAR
