BEGIN:VCALENDAR
VERSION:2.0
PRODID:-//demosphere.net//NONSGML kigkonsult.se iCalcreator 2.22.1//
METHOD:REQUEST
X-WR-TIMEZONE:Europe/Athens
BEGIN:VEVENT
UID:https://crete.kinimatorama.net/event/189661
DTSTAMP:20260424T073000Z
DESCRIPTION:περισσότερες πληροφορίες: https://crete.kinimatorama.net/event/
 189661 
DTSTART:20260424T073000Z
DTEND:20260424T083000Z
GEO:+37.989263;+23.752484
LOCATION:Αθήνα\, \nΕφετείο Αθηνών \nΛουκάρεως & Αλεξάνδρας \nΑμπελόκηποι \n
 (πλησίον ΜΕΤΡΟ Αμπελοκήπων)
SUMMARY:(Αλλαγή ώρας) Συγκέντρωση ενόψει της απόφασης στη δίκη της υπόθεσης
  Αμπελοκήπων
URL:https://crete.kinimatorama.net/event/189661
END:VEVENT
END:VCALENDAR
