BEGIN:VCALENDAR
VERSION:2.0
PRODID:-//demosphere.net//NONSGML kigkonsult.se iCalcreator 2.22.1//
METHOD:REQUEST
X-WR-TIMEZONE:Europe/Athens
BEGIN:VEVENT
UID:https://crete.kinimatorama.net/event/189660
DTSTAMP:20260423T053000Z
DESCRIPTION:περισσότερες πληροφορίες: https://crete.kinimatorama.net/event/
 189660 
DTSTART:20260423T053000Z
DTEND:20260423T063000Z
GEO:+37.989263;+23.752484
LOCATION:Αθήνα\, \nΕφετείο Αθηνών \nΛουκάρεως & Αλεξάνδρας \nΑμπελόκηποι \n
 (πλησίον ΜΕΤΡΟ Αμπελοκήπων)
SUMMARY:[Αθήνα] Συγκέντρωση αλληλεγγύης στην 11η δικάσιμο της υπόθεσης των 
 Αμπελοκήπων
URL:https://crete.kinimatorama.net/event/189660
END:VEVENT
END:VCALENDAR
