BEGIN:VCALENDAR
VERSION:2.0
PRODID:-//demosphere.net//NONSGML kigkonsult.se iCalcreator 2.22.1//
METHOD:REQUEST
X-WR-TIMEZONE:Europe/Athens
BEGIN:VEVENT
UID:https://crete.kinimatorama.net/event/189619
DTSTAMP:20260424T193000Z
DESCRIPTION:περισσότερες πληροφορίες: https://crete.kinimatorama.net/event/
 189619 
DTSTART:20260424T193000Z
DTEND:20260424T203000Z
GEO:+37.977573;+23.730646
LOCATION:Αθήνα\, \nΚτήριο TRISE \nΚολοκοτρώνη 31
SUMMARY:Live DJ set Unwound818
URL:https://crete.kinimatorama.net/event/189619
END:VEVENT
END:VCALENDAR
