BEGIN:VCALENDAR
VERSION:2.0
PRODID:-//demosphere.net//NONSGML kigkonsult.se iCalcreator 2.22.1//
METHOD:REQUEST
X-WR-TIMEZONE:Europe/Athens
BEGIN:VEVENT
UID:https://crete.kinimatorama.net/event/186866
DTSTAMP:20260227T190000Z
DESCRIPTION:περισσότερες πληροφορίες: https://crete.kinimatorama.net/event/
 186866 
DTSTART:20260227T190000Z
DTEND:20260227T200000Z
GEO:+37.986895;+23.758663
LOCATION:Αθήνα\, \nStuΔio \nΥπόγειο Λ. Αλεξάνδρας 194Α \n(πλησίον σταθμού Μ
 ετρό ΑΜΠΕΛΟΚΗΠΟΙ)
SUMMARY:Diy live // StuΔio για την οικ. ενίσχυση του ΣΣΜ
URL:https://crete.kinimatorama.net/event/186866
END:VEVENT
END:VCALENDAR
