BEGIN:VCALENDAR
VERSION:2.0
PRODID:-//demosphere.net//NONSGML kigkonsult.se iCalcreator 2.22.1//
METHOD:REQUEST
X-WR-TIMEZONE:Europe/Athens
BEGIN:VEVENT
UID:https://crete.kinimatorama.net/event/185359
DTSTAMP:20260131T180000Z
DESCRIPTION:περισσότερες πληροφορίες: https://crete.kinimatorama.net/event/
 185359 
DTSTART:20260131T180000Z
DTEND:20260131T190000Z
GEO:+38.027988;+23.808467
LOCATION:Χαλάνδρι\, \nΚατάληψη Κτήματος Πραποπούλου \nΠροφήτη Ηλία 49 \nαπέ
 ναντι από την είσοδο του Θεάτρου Ρεματιάς \nΛεωφορείο 402: στάση 'Γιασεμιώ
 ν' \nΤρόλλευ: 18 και 19
SUMMARY:Queer ΔΕΝ έχεις ταλέντο!/ Queer you don't have talent
URL:https://crete.kinimatorama.net/event/185359
END:VEVENT
END:VCALENDAR
