BEGIN:VCALENDAR
VERSION:2.0
PRODID:-//demosphere.net//NONSGML kigkonsult.se iCalcreator 2.22.1//
METHOD:REQUEST
X-WR-TIMEZONE:Europe/Athens
BEGIN:VEVENT
UID:https://crete.kinimatorama.net/event/180240
DTSTAMP:20250814T180000Z
DESCRIPTION:περισσότερες πληροφορίες: https://crete.kinimatorama.net/event/
 180240 
DTSTART:20250814T180000Z
DTEND:20250814T190000Z
GEO:+39.362249;+22.945858
LOCATION:Βόλος\, \nΚατάληψη Ματσάγγου \nΠαύλου Μελά με Σωκράτους
SUMMARY:Προβολή του ντοκιμαντέρ 'Καμία άλλη γη'
URL:https://crete.kinimatorama.net/event/180240
END:VEVENT
END:VCALENDAR
