BEGIN:VCALENDAR
VERSION:2.0
PRODID:-//demosphere.net//NONSGML kigkonsult.se iCalcreator 2.22.1//
METHOD:REQUEST
X-WR-TIMEZONE:Europe/Athens
BEGIN:VEVENT
UID:https://crete.kinimatorama.net/event/179584
DTSTAMP:20250712T173000Z
DESCRIPTION:περισσότερες πληροφορίες: https://crete.kinimatorama.net/event/
 179584 
DTSTART:20250712T173000Z
DTEND:20250712T183000Z
GEO:+37.986895;+23.758663
LOCATION:Αθήνα\, \nStuΔio \nΥπόγειο Λ. Αλεξάνδρας 194Α \n(πλησίον σταθμού Μ
 ετρό ΑΜΠΕΛΟΚΗΠΟΙ)
SUMMARY:Προβολή του ντοκιμαντέρ 'Βαρβαρική Κληρονομιά''
URL:https://crete.kinimatorama.net/event/179584
END:VEVENT
END:VCALENDAR
