BEGIN:VCALENDAR
VERSION:2.0
PRODID:-//demosphere.net//NONSGML kigkonsult.se iCalcreator 2.22.1//
METHOD:REQUEST
X-WR-TIMEZONE:Europe/Athens
BEGIN:VEVENT
UID:https://crete.kinimatorama.net/event/178948
DTSTAMP:20250620T170000Z
DESCRIPTION:περισσότερες πληροφορίες: https://crete.kinimatorama.net/event/
 178948 
DTSTART:20250620T170000Z
DTEND:20250620T180000Z
GEO:+37.986895;+23.758663
LOCATION:Αθήνα\, \nStuΔio \nΥπόγειο Λ. Αλεξάνδρας 194Α \n(πλησίον σταθμού Μ
 ετρό ΑΜΠΕΛΟΚΗΠΟΙ)
SUMMARY:Ανοιχτό Jam
URL:https://crete.kinimatorama.net/event/178948
END:VEVENT
END:VCALENDAR
