BEGIN:VCALENDAR
VERSION:2.0
PRODID:-//demosphere.net//NONSGML kigkonsult.se iCalcreator 2.22.1//
METHOD:REQUEST
X-WR-TIMEZONE:Europe/Athens
BEGIN:VEVENT
UID:https://crete.kinimatorama.net/event/178103
DTSTAMP:20250531T160000Z
DESCRIPTION:περισσότερες πληροφορίες: https://crete.kinimatorama.net/event/
 178103 
DTSTART:20250531T160000Z
DTEND:20250531T170000Z
GEO:+38.002554;+23.733687
LOCATION:Αθήνα\, \nΠλατεία Αμερικής \nΠατησίων & Μηθύμνης
SUMMARY:Μικροφωνική συγκέντρωση για τον πόλεμο στο Κονγκό
URL:https://crete.kinimatorama.net/event/178103
END:VEVENT
END:VCALENDAR
