BEGIN:VCALENDAR
VERSION:2.0
PRODID:-//demosphere.net//NONSGML kigkonsult.se iCalcreator 2.22.1//
METHOD:REQUEST
X-WR-TIMEZONE:Europe/Athens
BEGIN:VEVENT
UID:https://crete.kinimatorama.net/event/171730
DTSTAMP:20241208T160000Z
DESCRIPTION:περισσότερες πληροφορίες: https://crete.kinimatorama.net/event/
 171730 
DTSTART:20241208T160000Z
DTEND:20241208T170000Z
GEO:+37.986895;+23.758663
LOCATION:Αθήνα\, \nStuΔio \nΥπόγειο Λ. Αλεξάνδρας 194Α \n(πλησίον σταθμού Μ
 ετρό ΑΜΠΕΛΟΚΗΠΟΙ)
SUMMARY:StuΔio - Εκδήλωση Ανοίγματος Νέου Χώρου + Μπαρ
URL:https://crete.kinimatorama.net/event/171730
END:VEVENT
END:VCALENDAR
