BEGIN:VCALENDAR
VERSION:2.0
PRODID:-//demosphere.net//NONSGML kigkonsult.se iCalcreator 2.22.1//
METHOD:REQUEST
X-WR-TIMEZONE:Europe/Athens
BEGIN:VEVENT
UID:https://crete.kinimatorama.net/event/164792
DTSTAMP:20240427T093000Z
DESCRIPTION:περισσότερες πληροφορίες: https://crete.kinimatorama.net/event/
 164792 
DTSTART:20240427T093000Z
DTEND:20240427T103000Z
GEO:+37.96544;+23.760477
LOCATION:Καισαριανή\, \nμνημείο Σκοπευτηρίου Καισαριανής \nλεωφορείο 214: σ
 τάση 8η ΦΟΡΜΙΩΝΟΣ \nλεωφορείο 224: στάση 8η ΚΑΙΣΑΡΙΑΝΗΣ \nτρόλλευ 11 (ολον
 ύχτιo): στάση ΔΗΜΑΡΧΕΙΟ \nκοντινότερο μετρό: Στ. Ευαγγελισμού
SUMMARY:Εκδήλωση για τα 80 χρόνια από την εκτέλεση των 200 κομμουνιστών στη
 ν Καισαριανή
URL:https://crete.kinimatorama.net/event/164792
END:VEVENT
END:VCALENDAR
