BEGIN:VCALENDAR
VERSION:2.0
PRODID:-//demosphere.net//NONSGML kigkonsult.se iCalcreator 2.22.1//
METHOD:REQUEST
X-WR-TIMEZONE:Europe/Athens
BEGIN:VEVENT
UID:https://crete.kinimatorama.net/event/158253
DTSTAMP:20231125T130000Z
DESCRIPTION:περισσότερες πληροφορίες: https://crete.kinimatorama.net/event/
 158253 
DTSTART:20231125T130000Z
DTEND:20231125T140000Z
GEO:+37.985926;+23.735421
LOCATION:Αθήνα\, \nΜπενάκη και Βαλτετσίου \nΕξάρχεια
SUMMARY:Συγκέντρωση-παρέμβαση ενάντια στην έμφυλη βία & το σύστημα που τη γ
 εννά & τη συντηρεί
URL:https://crete.kinimatorama.net/event/158253
END:VEVENT
END:VCALENDAR
