BEGIN:VCALENDAR
VERSION:2.0
PRODID:-//demosphere.net//NONSGML kigkonsult.se iCalcreator 2.22.1//
METHOD:REQUEST
X-WR-TIMEZONE:Europe/Athens
BEGIN:VEVENT
UID:https://crete.kinimatorama.net/event/157248
DTSTAMP:20231103T190000Z
DESCRIPTION:περισσότερες πληροφορίες: https://crete.kinimatorama.net/event/
 157248 
DTSTART:20231103T190000Z
DTEND:20231103T200000Z
GEO:+37.985926;+23.735421
LOCATION:Αθήνα\, \nΜπενάκη και Βαλτετσίου \nΕξάρχεια
SUMMARY:Παρεμβαση-συγκεντρωση εναντια στον εξευγενισμο των εξαρχειων
URL:https://crete.kinimatorama.net/event/157248
END:VEVENT
END:VCALENDAR
