BEGIN:VCALENDAR
VERSION:2.0
PRODID:-//demosphere.net//NONSGML kigkonsult.se iCalcreator 2.22.1//
METHOD:REQUEST
X-WR-TIMEZONE:Europe/Athens
BEGIN:VEVENT
UID:https://crete.kinimatorama.net/event/151960
DTSTAMP:20230506T173000Z
DESCRIPTION:περισσότερες πληροφορίες: https://crete.kinimatorama.net/event/
 151960 
DTSTART:20230506T173000Z
DTEND:20230506T183000Z
GEO:+37.985926;+23.735421
LOCATION:Αθήνα\, \nΜπενάκη και Βαλτετσίου \nΕξάρχεια
SUMMARY:Μικροφωνικη στη Βαλτετσιου
URL:https://crete.kinimatorama.net/event/151960
END:VEVENT
END:VCALENDAR
