BEGIN:VCALENDAR
VERSION:2.0
PRODID:-//demosphere.net//NONSGML kigkonsult.se iCalcreator 2.22.1//
METHOD:REQUEST
X-WR-TIMEZONE:Europe/Athens
BEGIN:VEVENT
UID:https://crete.kinimatorama.net/event/151800
DTSTAMP:20230506T090000Z
DESCRIPTION:περισσότερες πληροφορίες: https://crete.kinimatorama.net/event/
 151800 
DTSTART:20230506T090000Z
DTEND:20230506T100000Z
GEO:+39.668311;+20.85369
LOCATION:Ιωάννινα\, \nΕλεύθερος Κοινωνικός Χώρος 'Αλιμούρα' \nΑραβαντινού 6
  \n(εντός στοάς Σκόρδου) \nείσοδος και από Τσιριγώτη 14
SUMMARY:Κάλεσμα Συντονισμού για Πανηπειρωτική Πορεία ενάντια στις εξορύξεις
URL:https://crete.kinimatorama.net/event/151800
END:VEVENT
END:VCALENDAR
