BEGIN:VCALENDAR
VERSION:2.0
PRODID:-//demosphere.net//NONSGML kigkonsult.se iCalcreator 2.22.1//
METHOD:REQUEST
X-WR-TIMEZONE:Europe/Athens
BEGIN:VEVENT
UID:https://crete.kinimatorama.net/event/145579
DTSTAMP:20221206T140000Z
DESCRIPTION:περισσότερες πληροφορίες: https://crete.kinimatorama.net/event/
 145579 
DTSTART:20221206T140000Z
DTEND:20221206T150000Z
GEO:+37.985926;+23.735421
LOCATION:Αθήνα\, \nΜπενάκη και Βαλτετσίου \nΕξάρχεια
SUMMARY:Κάλεσμα σε συγκέντρωση στην γειτονιά των Εξαρχείων
URL:https://crete.kinimatorama.net/event/145579
END:VEVENT
END:VCALENDAR
