BEGIN:VCALENDAR
VERSION:2.0
PRODID:-//demosphere.net//NONSGML kigkonsult.se iCalcreator 2.22.1//
METHOD:REQUEST
X-WR-TIMEZONE:Europe/Athens
BEGIN:VEVENT
UID:https://crete.kinimatorama.net/event/140895
DTSTAMP:20220812T160000Z
DESCRIPTION:περισσότερες πληροφορίες: https://crete.kinimatorama.net/event/
 140895 
DTSTART:20220812T160000Z
DTEND:20220812T170000Z
GEO:+37.985926;+23.735421
LOCATION:Αθήνα\, \nΜπενάκη και Βαλτετσίου \nΕξάρχεια
SUMMARY:Συγκέντρωση- μικροφωνική ενάντια στην κατασκευή σταθμού μετρό στα Ε
 ξάρχεια
URL:https://crete.kinimatorama.net/event/140895
END:VEVENT
END:VCALENDAR
