BEGIN:VCALENDAR
VERSION:2.0
PRODID:-//demosphere.net//NONSGML kigkonsult.se iCalcreator 2.22.1//
METHOD:REQUEST
X-WR-TIMEZONE:Europe/Athens
BEGIN:VEVENT
UID:https://crete.kinimatorama.net/event/118687
DTSTAMP:20200606T160000Z
DESCRIPTION:περισσότερες πληροφορίες: https://crete.kinimatorama.net/event/
 118687 
DTSTART:20200606T160000Z
DTEND:20200606T170000Z
GEO:+38.002554;+23.733687
LOCATION:Αθήνα\, \nΠλατεία Αμερικής \nΠατησίων & Μηθύμνης
SUMMARY:Συλλογική Κουζίνα
URL:https://crete.kinimatorama.net/event/118687
END:VEVENT
END:VCALENDAR
