BEGIN:VCALENDAR
VERSION:2.0
PRODID:-//demosphere.net//NONSGML kigkonsult.se iCalcreator 2.22.1//
METHOD:REQUEST
X-WR-TIMEZONE:Europe/Athens
BEGIN:VEVENT
UID:https://crete.kinimatorama.net/event/116235
DTSTAMP:20200223T100000Z
DESCRIPTION:περισσότερες πληροφορίες: https://crete.kinimatorama.net/event/
 116235 
DTSTART:20200223T100000Z
DTEND:20200223T110000Z
GEO:+37.967347;+23.712788
LOCATION:Αθήνα\, \nΠλατεία Μερκούρη \nΆνω Πετράλωνα \n(πλησίον ΗΣΑΠ Πετραλώ
 νων)
SUMMARY:Συγκέντρωση & πορεία αλληλεγγύης στις καταλήψεις + 1η αγωνιστική An
 tifa League
URL:https://crete.kinimatorama.net/event/116235
END:VEVENT
END:VCALENDAR
